BEGIN:VCALENDAR
VERSION:2.0
PRODID:-//Dr. Barbara Hong - ECPv6.15.20//NONSGML v1.0//EN
CALSCALE:GREGORIAN
METHOD:PUBLISH
X-ORIGINAL-URL:https://barbarahong.com
X-WR-CALDESC:Events for Dr. Barbara Hong
REFRESH-INTERVAL;VALUE=DURATION:PT1H
X-Robots-Tag:noindex
X-PUBLISHED-TTL:PT1H
BEGIN:VTIMEZONE
TZID:UTC
BEGIN:STANDARD
TZOFFSETFROM:+0000
TZOFFSETTO:+0000
TZNAME:UTC
DTSTART:20170101T000000
END:STANDARD
END:VTIMEZONE
BEGIN:VEVENT
DTSTART;VALUE=DATE:20180729
DTEND;VALUE=DATE:20180730
DTSTAMP:20260423T195936
CREATED:20180830T015146Z
LAST-MODIFIED:20180830T015146Z
UID:494-1532822400-1532908799@barbarahong.com
SUMMARY:To Be or Not To Be: The Price for Earning a Prize
DESCRIPTION:
URL:https://barbarahong.com/event/to-be-or-not-to-be-the-price-for-earning-a-prize/
LOCATION:Singapore
ATTACH;FMTTYPE=image/jpeg:https://barbarahong.com/wp-content/uploads/2018/08/8.jpeg
END:VEVENT
END:VCALENDAR