BEGIN:VCALENDAR
VERSION:2.0
PRODID:-//Dr. Barbara Hong - ECPv6.15.20//NONSGML v1.0//EN
CALSCALE:GREGORIAN
METHOD:PUBLISH
X-WR-CALNAME:Dr. Barbara Hong
X-ORIGINAL-URL:https://barbarahong.com
X-WR-CALDESC:Events for Dr. Barbara Hong
REFRESH-INTERVAL;VALUE=DURATION:PT1H
X-Robots-Tag:noindex
X-PUBLISHED-TTL:PT1H
BEGIN:VTIMEZONE
TZID:UTC
BEGIN:STANDARD
TZOFFSETFROM:+0000
TZOFFSETTO:+0000
TZNAME:UTC
DTSTART:20170101T000000
END:STANDARD
END:VTIMEZONE
BEGIN:VEVENT
DTSTART;TZID=UTC:20181013T080000
DTEND;TZID=UTC:20181013T130000
DTSTAMP:20260419T164525
CREATED:20180829T015900Z
LAST-MODIFIED:20180831T005306Z
UID:410-1539417600-1539435600@barbarahong.com
SUMMARY:3rd Annual PACE Symposium
DESCRIPTION:TOGETHER WE STAND: TOGETHER WE SUCCEED!\nWhat are my legal rights in educating my child?\nHow can I tell if my child’s learning is effective?\nHow do I advocate for my child’s needs?\nHow can I empower my child to become a leader at home?
URL:https://barbarahong.com/event/3rd-annual-pace-symposium/
LOCATION:55-220 Kulanui St\, Laie\, HI 96762\, Brigham Young University Hawaii\, Laie\, HI\, 96762\, United States
CATEGORIES:PACE
ATTACH;FMTTYPE=image/jpeg:https://barbarahong.com/wp-content/uploads/2018/08/2018Pace.jpg
ORGANIZER;CN="Leadership in Disabilities & Achievements of Hawai%E2%80%99i":MAILTO:mwibberley@ldahawaii.org
END:VEVENT
END:VCALENDAR